BEGIN:VCALENDAR
VERSION:2.0
PRODID:spatie/icalendar-generator
DESCRIPTION:Events from ACFAA
X-WR-CALDESC:Events from ACFAA
REFRESH-INTERVAL;VALUE=DURATION:PT1440M
X-PUBLISHED-TTL:PT1440M
BEGIN:VTIMEZONE
TZID:Europe/Paris
BEGIN:DAYLIGHT
DTSTART:20250330T020000Z
TZOFFSETFROM:+0100
TZOFFSETTO:+0200
END:DAYLIGHT
BEGIN:STANDARD
DTSTART:20251026T030000Z
TZOFFSETFROM:+0200
TZOFFSETTO:+0100
END:STANDARD
END:VTIMEZONE
BEGIN:VTIMEZONE
TZID:UTC
BEGIN:STANDARD
DTSTART:20250724T134834Z
TZOFFSETFROM:+0000
TZOFFSETTO:+0000
END:STANDARD
END:VTIMEZONE
BEGIN:VEVENT
UID:2360-244
DTSTAMP:20260420T134834Z
SUMMARY:Relaxation\, Wellness &amp;amp\; Meditation
LOCATION:Eymet Pl Gambetta Place Gambetta  Eymet  24500
ORGANIZER;CN=Alan Godfree:MAILTO:acfaa.web@gmail.com
RRULE:FREQ=WEEKLY;UNTIL=20251218T000000Z
DTSTART;TZID=Europe/Paris:20250911T113000
DTEND;TZID=Europe/Paris:20250911T123000
X-ALT-DESC;FMTTYPE=TEXT/HTML:For further details contact the Group Leader
CATEGORIES:ACFAA Calendar
URL;VALUE=URI:https://acfaa.com/mc-events/relaxation-wellness-meditation/?m
 c_id=2360
METHOD:PUBLISH
END:VEVENT
END:VCALENDAR