BEGIN:VCALENDAR
VERSION:2.0
PRODID:spatie/icalendar-generator
DESCRIPTION:Events from ACFAA
X-WR-CALDESC:Events from ACFAA
REFRESH-INTERVAL;VALUE=DURATION:PT1440M
X-PUBLISHED-TTL:PT1440M
BEGIN:VTIMEZONE
TZID:Europe/Paris
BEGIN:STANDARD
DTSTART:20251026T030000Z
TZOFFSETFROM:+0200
TZOFFSETTO:+0100
END:STANDARD
BEGIN:DAYLIGHT
DTSTART:20260329T020000Z
TZOFFSETFROM:+0100
TZOFFSETTO:+0200
END:DAYLIGHT
BEGIN:STANDARD
DTSTART:20261025T030000Z
TZOFFSETFROM:+0200
TZOFFSETTO:+0100
END:STANDARD
END:VTIMEZONE
BEGIN:VTIMEZONE
TZID:UTC
BEGIN:STANDARD
DTSTART:20250727T153351Z
TZOFFSETFROM:+0000
TZOFFSETTO:+0000
END:STANDARD
END:VTIMEZONE
BEGIN:VEVENT
UID:3956-355
DTSTAMP:20260423T153351Z
SUMMARY:Ten Pin Bowling
LOCATION:Bowling Bergeracois Zone de Loisirs Tr Route de Bordeaux Saint Lau
 rent des Vignes Dordogne 24100
ORGANIZER;CN=Alan Godfree:MAILTO:acfaa.web@gmail.com
DTSTART;TZID=Europe/Paris:20260503T145000
DTEND;TZID=Europe/Paris:20260503T155000
X-ALT-DESC;FMTTYPE=TEXT/HTML:
CATEGORIES:ACFAA Calendar
URL;VALUE=URI:https://acfaa.com/mc-events/ten-pin-bowling/
METHOD:PUBLISH
END:VEVENT
END:VCALENDAR