BEGIN:VCALENDAR
VERSION:2.0
PRODID:spatie/icalendar-generator
DESCRIPTION:Events from ACFAA
X-WR-CALDESC:Events from ACFAA
REFRESH-INTERVAL;VALUE=DURATION:PT1440M
X-PUBLISHED-TTL:PT1440M
BEGIN:VTIMEZONE
TZID:Europe/Paris
BEGIN:STANDARD
DTSTART:20251026T030000Z
TZOFFSETFROM:+0200
TZOFFSETTO:+0100
END:STANDARD
BEGIN:DAYLIGHT
DTSTART:20260329T020000Z
TZOFFSETFROM:+0100
TZOFFSETTO:+0200
END:DAYLIGHT
BEGIN:STANDARD
DTSTART:20261025T030000Z
TZOFFSETFROM:+0200
TZOFFSETTO:+0100
END:STANDARD
END:VTIMEZONE
BEGIN:VTIMEZONE
TZID:UTC
BEGIN:STANDARD
DTSTART:20250727T121543Z
TZOFFSETFROM:+0000
TZOFFSETTO:+0000
END:STANDARD
END:VTIMEZONE
BEGIN:VEVENT
UID:3403-295
DTSTAMP:20260423T121543Z
SUMMARY:Joyful Harmony Singing
LOCATION:Temple de l\\'église protestante unie 22 Rue du Temple  Eymet  24
 500
ORGANIZER;CN=Alan Godfree:MAILTO:acfaa.web@gmail.com
DTSTART;TZID=Europe/Paris:20260509T110000
DTEND;TZID=Europe/Paris:20260509T170000
X-ALT-DESC;FMTTYPE=TEXT/HTML:<p>Come and share the simple pleasure of singi
 ng together</p>\n
CATEGORIES:ACFAA Calendar,  ACFAA Events
URL;VALUE=URI:https://acfaa.com/mc-events/joyful-harmony-singing/
METHOD:PUBLISH
END:VEVENT
END:VCALENDAR